BEGIN:VCALENDAR
VERSION:2.0
PRODID:-//Visit Spring Lake - ECPv6.8.3//NONSGML v1.0//EN
CALSCALE:GREGORIAN
METHOD:PUBLISH
X-WR-CALNAME:Visit Spring Lake
X-ORIGINAL-URL:https://www.visitspringlake.com
X-WR-CALDESC:Events for Visit Spring Lake
REFRESH-INTERVAL;VALUE=DURATION:PT1H
X-Robots-Tag:noindex
X-PUBLISHED-TTL:PT1H
BEGIN:VTIMEZONE
TZID:UTC
BEGIN:STANDARD
TZOFFSETFROM:+0000
TZOFFSETTO:+0000
TZNAME:UTC
DTSTART:20260101T000000
END:STANDARD
END:VTIMEZONE
BEGIN:VEVENT
DTSTART;TZID=UTC:20260523T100000
DTEND;TZID=UTC:20260524T170000
DTSTAMP:20260421T131715
CREATED:20170525T151016Z
LAST-MODIFIED:20260209T133400Z
UID:2115-1779530400-1779642000@www.visitspringlake.com
SUMMARY:Race Day Sidewalk Sale
DESCRIPTION:May 23rd & 24th 10 am – 5 pm (Rain dates: May 30 & May 31)
URL:https://www.visitspringlake.com/event/race-day-side-walk-sale/
LOCATION:NJ
CATEGORIES:Shopping
ATTACH;FMTTYPE=image/jpeg:https://www.visitspringlake.com/wp-content/uploads/2015/06/sidewalk-sale-web1.jpg
END:VEVENT
BEGIN:VEVENT
DTSTART;TZID=UTC:20260613T120000
DTEND;TZID=UTC:20260613T120000
DTSTAMP:20260421T131715
CREATED:20250223T162436Z
LAST-MODIFIED:20260209T132247Z
UID:1987-1781352000-1781352000@www.visitspringlake.com
SUMMARY:Irish Festival
DESCRIPTION:Enjoy an entire day of everything Irish! Music\, dancing\, beverage truck\, food\, shopping\, etc! Fun for the entire family! (Rain date: June 14)
URL:https://www.visitspringlake.com/event/irish-festival-2/
LOCATION:NJ
CATEGORIES:Arts,Festival,Shopping
ATTACH;FMTTYPE=image/png:https://www.visitspringlake.com/wp-content/uploads/2017/01/Irish-Festival-Image.png
END:VEVENT
BEGIN:VEVENT
DTSTART;TZID=UTC:20260722T170000
DTEND;TZID=UTC:20260812T210000
DTSTAMP:20260421T131715
CREATED:20250610T164044Z
LAST-MODIFIED:20260209T131539Z
UID:3419-1784739600-1786568400@www.visitspringlake.com
SUMMARY:Spring Lake Summer Nights Block Party
DESCRIPTION:Join us for 4 consecutive Wednesday nights  (July 22\, 29\, August 5 & 12) for family fun\, music\, and food! 3rd Avenue between Washington and Passaic Avenues will be closed to vehicular traffic from 5 pm until 9 pm for live music and activities!
URL:https://www.visitspringlake.com/event/spring-lake-summer-nights/
LOCATION:Downtown business district\, Third Ave\, Spring Lake\, NJ\, 07762\, United States
CATEGORIES:Festival,Shopping
ATTACH;FMTTYPE=image/jpeg:https://www.visitspringlake.com/wp-content/uploads/2025/06/FINAL-2-SL-Summer-Nights-blues-e1749573584158.jpg
ORGANIZER;CN="Spring Lake BID":MAILTO:info@visitspringlake.com
END:VEVENT
BEGIN:VEVENT
DTSTART;TZID=UTC:20260808T100000
DTEND;TZID=UTC:20260808T170000
DTSTAMP:20260421T131715
CREATED:20170130T170458Z
LAST-MODIFIED:20260209T131423Z
UID:2004-1786183200-1786208400@www.visitspringlake.com
SUMMARY:August Sidewalk Sale ~ Aug 8th & 9th
DESCRIPTION:Rain dates: August 15th & 16th
URL:https://www.visitspringlake.com/event/summer-sidewalk-sale/
LOCATION:NJ
CATEGORIES:Shopping
ATTACH;FMTTYPE=image/jpeg:https://www.visitspringlake.com/wp-content/uploads/2015/06/sidewalk-sale-web1.jpg
END:VEVENT
BEGIN:VEVENT
DTSTART;VALUE=DATE:20260905
DTEND;VALUE=DATE:20260906
DTSTAMP:20260421T131715
CREATED:20160201T000016Z
LAST-MODIFIED:20260209T131210Z
UID:642-1788566400-1788652799@www.visitspringlake.com
SUMMARY:Labor Day End of Summer Celebration/Art Walk
DESCRIPTION:Celebrate Independence Day & stroll along the 3rd Avenue Business District while enjoying and admiring local artists’ work.
URL:https://www.visitspringlake.com/event/labor-day-end-of-summer-celebrationart-walk/
LOCATION:Downtown business district\, Third Ave\, Spring Lake\, NJ\, 07762\, United States
CATEGORIES:Arts,Shopping
ATTACH;FMTTYPE=image/jpeg:https://www.visitspringlake.com/wp-content/uploads/2015/06/Labor-Day-web.jpg
END:VEVENT
BEGIN:VEVENT
DTSTART;TZID=UTC:20261203T170000
DTEND;TZID=UTC:20261203T170000
DTSTAMP:20260421T131715
CREATED:20250223T170000Z
LAST-MODIFIED:20260209T130409Z
UID:2782-1796317200-1796317200@www.visitspringlake.com
SUMMARY:Holiday Soiree
DESCRIPTION:Join us for a great night of friends\, cheer and shopping!!
URL:https://www.visitspringlake.com/event/holiday-soiree-3/
LOCATION:NJ
CATEGORIES:Shopping
ATTACH;FMTTYPE=image/jpeg:https://www.visitspringlake.com/wp-content/uploads/2023/12/Holiday-Soiree-Save-the-Date-e1739888766821.jpg
ORGANIZER;CN="Spring Lake BID":MAILTO:info@visitspringlake.com
END:VEVENT
END:VCALENDAR